BEGIN:VCALENDAR
VERSION:2.0
PRODID:Events Booking
BEGIN:VEVENT
UID:69ed47ca9b748
SUMMARY:TN0911 Teach Northants Refresher Session
DESCRIPTION:
 &nbsp\;
 Please note that there will be a &pound\;25 cancel
 lation fee on this session for delegates that have booked but do not atten
 d.
 Since the launch of Teach Northamptonshire\, our schools have adverti
 sed over 1\,500&nbsp\;jobs and processed&nbsp\;more than 3\,400 applicatio
 ns via the new website\, which itself has attracted 310\,000 web visitors\
 , many from London and neighbouring counties.&nbsp\;
 We have listened to
  your feedback and recent system improvements include:
 
 Enhanced guida
 nce to applicants &amp\; signposting for support
 Significantly improved 
 school support area and new &lsquo\;How To&rsquo\; guides
 Expanded &amp\
 ; streamlined vacancy categories
 More user friendly administrative syste
 m&nbsp\;
 Lots of new functionality options&nbsp\;
 New &lsquo\;register
  for job alerts&rsquo\; feature&nbsp\;
 Daily emails to candidates based 
 on their registration
 
 System improvements coming soon include:
 
 N
 ew Favourites job and school saving function for candidates
 More promine
 nt keyword search
 Google Analytics insights at vacancy level
 
 Do you
  have a question about the system? Would you like to meet the team behind 
 the site for refresher&nbsp\;training and a Q&amp\;A session with the tech
  support staff?&nbsp\;
LOCATION:Barnwell Rd\, Wellingborough NN8\, UK
DTSTART:20171109T130000Z
DTEND:20171109T150000Z
DTSTAMP:20260425T230130Z
ORGANIZER;CN=5 Wells Development Centre:MAILTO:victoria.brennan@5wells.org.
 uk
GEO:52.314941;-0.712512
X-APPLE-STRUCTURED-LOCATION;VALUE=URI;X-ADDRESS=Barnwell Rd\, Wellingboroug
 h NN8\, UK;X-APPLE-RADIUS=72;X-TITLE=5 Wells Development Centre @ Redwell 
 Primary :52.314941;-0.712512
END:VEVENT
END:VCALENDAR