BEGIN:VCALENDAR
VERSION:2.0
PRODID:Events Booking
BEGIN:VEVENT
UID:69ed4af934cb8
SUMMARY:ICPS0111 New to Science Leadership Part One
DESCRIPTION:
 Create a shared vision for primary science across your schoo
 l
 Lead improvement in the quality of science teaching and learning withi
 n your school
 Enhance curriculum opportunities for science
 &nbsp\;
  
 &nbsp\; &nbsp\; &nbsp\; &nbsp\;&nbsp\; 
 &nbsp\;
 For bookings and enqui
 ries please contact Irchester Community Primary School on 01933 353848
LOCATION:School Ln\, Irchester\, Wellingborough NN29 7AZ\, UK
DTSTART:20171106T130000Z
DTEND:20171106T170000Z
DTSTAMP:20260425T231505Z
ORGANIZER;CN=5 Wells Development Centre:MAILTO:victoria.brennan@5wells.org.
 uk
GEO:52.282555;-0.646247
X-APPLE-STRUCTURED-LOCATION;VALUE=URI;X-ADDRESS=School Ln\, Irchester\, Wel
 lingborough NN29 7AZ\, UK;X-APPLE-RADIUS=72;X-TITLE=Irchester Community Pr
 imary School:52.282555;-0.646247
END:VEVENT
END:VCALENDAR