BEGIN:VCALENDAR
VERSION:2.0
PRODID:Events Booking
BEGIN:VEVENT
UID:69ed4b73b7a60
SUMMARY:ICPS2011 Assessment for Progress in Primary Science
DESCRIPTION:
 Use a range of AfL strategies effectively to promote childre
 n's learning.
 Make confident and reliable teacher assessment of learnin 
 in science and identify children's next steps.
 &nbsp\;
  &nbsp\; &nbsp\
 ; &nbsp\; &nbsp\;&nbsp\; 
 &nbsp\;
 For bookings and enquiries please co
 ntact Irchester Community Primary School on 01933 353848
LOCATION:School Ln\, Irchester\, Wellingborough NN29 7AZ\, UK
DTSTART:20171120T160000Z
DTEND:20171120T173000Z
DTSTAMP:20260425T231707Z
ORGANIZER;CN=5 Wells Development Centre:MAILTO:victoria.brennan@5wells.org.
 uk
GEO:52.282555;-0.646247
X-APPLE-STRUCTURED-LOCATION;VALUE=URI;X-ADDRESS=School Ln\, Irchester\, Wel
 lingborough NN29 7AZ\, UK;X-APPLE-RADIUS=72;X-TITLE=Irchester Community Pr
 imary School:52.282555;-0.646247
END:VEVENT
END:VCALENDAR