BEGIN:VCALENDAR
VERSION:2.0
PRODID:Events Booking
BEGIN:VEVENT
UID:69ed1ff12b80d
SUMMARY:ICPS0801 Delivering Writing through Science
DESCRIPTION:
 Be more confident in delivering writing through science crea
 tively
 Reflect on the barriers to good writing
 Plan science lessons wh
 ich incorporate transferable skills of writing
 &nbsp\;
  &nbsp\; &nbsp\
 ; &nbsp\; &nbsp\;&nbsp\; 
 &nbsp\;
 For bookings and enquiries please co
 ntact Irchester Community Primary School on 01933 353848
LOCATION:School Ln\, Irchester\, Wellingborough NN29 7AZ\, UK
DTSTART:20180108T160000Z
DTEND:20180108T173000Z
DTSTAMP:20260425T201129Z
ORGANIZER;CN=5 Wells Development Centre:MAILTO:victoria.brennan@5wells.org.
 uk
GEO:52.282555;-0.646247
X-APPLE-STRUCTURED-LOCATION;VALUE=URI;X-ADDRESS=School Ln\, Irchester\, Wel
 lingborough NN29 7AZ\, UK;X-APPLE-RADIUS=72;X-TITLE=Irchester Community Pr
 imary School:52.282555;-0.646247
END:VEVENT
END:VCALENDAR