BEGIN:VCALENDAR
VERSION:2.0
PRODID:Events Booking
BEGIN:VEVENT
UID:69ed0c0800ebf
SUMMARY:ICPS0502 Science Moderation
DESCRIPTION:
 &nbsp\;
 Be secure in your judgements of children's achieve
 ments and progress
 &nbsp\;
  &nbsp\; &nbsp\; &nbsp\; &nbsp\;&nbsp\; 
 
 &nbsp\;
 For bookings and enquiries please contact Irchester Community Pr
 imary School on 01933 353848
LOCATION:School Ln\, Irchester\, Wellingborough NN29 7AZ\, UK
DTSTART:20180205T160000Z
DTEND:20180205T173000Z
DTSTAMP:20260425T184632Z
ORGANIZER;CN=5 Wells Development Centre:MAILTO:victoria.brennan@5wells.org.
 uk
GEO:52.282555;-0.646247
X-APPLE-STRUCTURED-LOCATION;VALUE=URI;X-ADDRESS=School Ln\, Irchester\, Wel
 lingborough NN29 7AZ\, UK;X-APPLE-RADIUS=72;X-TITLE=Irchester Community Pr
 imary School:52.282555;-0.646247
END:VEVENT
END:VCALENDAR