BEGIN:VCALENDAR
VERSION:2.0
PRODID:Events Booking
BEGIN:VEVENT
UID:69ecfa24eeab1
SUMMARY:ICPS0503 New to Science Leadership Part Two
DESCRIPTION:
 This session will lead on from part 1
 &nbsp\;
  &nbsp\; &
 nbsp\; &nbsp\; &nbsp\;&nbsp\; 
 &nbsp\;
 For bookings and enquiries plea
 se contact Irchester Community Primary School on 01933 353848
LOCATION:School Ln\, Irchester\, Wellingborough NN29 7AZ\, UK
DTSTART:20180305T130000Z
DTEND:20180305T170000Z
DTSTAMP:20260425T173012Z
ORGANIZER;CN=5 Wells Development Centre:MAILTO:victoria.brennan@5wells.org.
 uk
GEO:52.282555;-0.646247
X-APPLE-STRUCTURED-LOCATION;VALUE=URI;X-ADDRESS=School Ln\, Irchester\, Wel
 lingborough NN29 7AZ\, UK;X-APPLE-RADIUS=72;X-TITLE=Irchester Community Pr
 imary School:52.282555;-0.646247
END:VEVENT
END:VCALENDAR