BEGIN:VCALENDAR
VERSION:2.0
PRODID:Events Booking
BEGIN:VEVENT
UID:69ece3b78a3b5
SUMMARY:ICPS0204 Delivering measure and data handling through science
DESCRIPTION:
 Examine a variety of ideas and activities that can be used w
 ith children to maximise learning opportunities in maths and science
 Pla
 n for relevant contexts in which children can develop their mathematical k
 nowledge and understanding
 &nbsp\;
  &nbsp\; &nbsp\; &nbsp\; &nbsp\;&nb
 sp\; 
 &nbsp\;
 For bookings and enquiries please contact Irchester Comm
 unity Primary School on 01933 353848
LOCATION:School Ln\, Irchester\, Wellingborough NN29 7AZ\, UK
DTSTART:20180402T150000Z
DTEND:20180402T163000Z
DTSTAMP:20260425T155431Z
ORGANIZER;CN=5 Wells Development Centre:MAILTO:victoria.brennan@5wells.org.
 uk
GEO:52.282555;-0.646247
X-APPLE-STRUCTURED-LOCATION;VALUE=URI;X-ADDRESS=School Ln\, Irchester\, Wel
 lingborough NN29 7AZ\, UK;X-APPLE-RADIUS=72;X-TITLE=Irchester Community Pr
 imary School:52.282555;-0.646247
END:VEVENT
END:VCALENDAR