BEGIN:VCALENDAR
VERSION:2.0
PRODID:Events Booking
BEGIN:VEVENT
UID:69eccf99b46b7
SUMMARY:ICPS2105 Outdoor Play in EYFS
DESCRIPTION:
 Plan exciting environments which children can explore\, cont
 rol\, change and modify in order to learn new skills\, make new discoverie
 s and develop their knowledge and understanding of the world.
 &nbsp\;
 
  &nbsp\; &nbsp\; &nbsp\; &nbsp\;&nbsp\; 
 &nbsp\;
 For bookings and enqu
 iries please contact Irchester Community Primary School on 01933 353848
LOCATION:School Ln\, Irchester\, Wellingborough NN29 7AZ\, UK
DTSTART:20180521T150000Z
DTEND:20180521T163000Z
DTSTAMP:20260425T142841Z
ORGANIZER;CN=5 Wells Development Centre:MAILTO:victoria.brennan@5wells.org.
 uk
GEO:52.282555;-0.646247
X-APPLE-STRUCTURED-LOCATION;VALUE=URI;X-ADDRESS=School Ln\, Irchester\, Wel
 lingborough NN29 7AZ\, UK;X-APPLE-RADIUS=72;X-TITLE=Irchester Community Pr
 imary School:52.282555;-0.646247
END:VEVENT
END:VCALENDAR