BEGIN:VCALENDAR
VERSION:2.0
PRODID:Events Booking
BEGIN:VEVENT
UID:69ecb8de409c4
SUMMARY:ICPS1106 Plants in Primary Science EYFS and KS1
DESCRIPTION:
 Effectively use the school grounds and surrounding environme
 nt to cover the PLANTS programme of study in the NC for Science
 Ensure W
 orking Scientifically is embedded into our outdoor learning
 &nbsp\;
  &
 nbsp\; &nbsp\; &nbsp\; &nbsp\;&nbsp\; 
 &nbsp\;
 For bookings and enquir
 ies please contact Irchester Community Primary School on 01933 353848
LOCATION:School Ln\, Irchester\, Wellingborough NN29 7AZ\, UK
DTSTART:20180611T150000Z
DTEND:20180611T163000Z
DTSTAMP:20260425T125142Z
ORGANIZER;CN=5 Wells Development Centre:MAILTO:victoria.brennan@5wells.org.
 uk
GEO:52.282555;-0.646247
X-APPLE-STRUCTURED-LOCATION;VALUE=URI;X-ADDRESS=School Ln\, Irchester\, Wel
 lingborough NN29 7AZ\, UK;X-APPLE-RADIUS=72;X-TITLE=Irchester Community Pr
 imary School:52.282555;-0.646247
END:VEVENT
END:VCALENDAR