BEGIN:VCALENDAR
VERSION:2.0
PRODID:Events Booking
BEGIN:VEVENT
UID:69ed48cf3510d
SUMMARY:AMN2311 Assessment and Moderation Network
DESCRIPTION:
 In the first of our Assessment and Moderation network sessio
 ns for this academic year\, we plan to:
 Share Government Response to Pri
 mary Assessment Consultation
 Share Change to the order of 2018 KS2 tests
 
 Unpick 2017 to 2018 revised teacher assessment frameworks and new exemp
 lification material
 Key points from Teacher Assessment Guidance KS1/2
 
 Discuss Floor Standards
LOCATION:Barnwell Rd\, Wellingborough NN8\, UK
DTSTART:20171123T160000Z
DTEND:20171123T170000Z
DTSTAMP:20260425T230551Z
ORGANIZER;CN=5 Wells Development Centre:MAILTO:victoria.brennan@5wells.org.
 uk
GEO:52.314941;-0.712512
X-APPLE-STRUCTURED-LOCATION;VALUE=URI;X-ADDRESS=Barnwell Rd\, Wellingboroug
 h NN8\, UK;X-APPLE-RADIUS=72;X-TITLE=5 Wells Development Centre @ Redwell 
 Primary :52.314941;-0.712512
END:VEVENT
END:VCALENDAR