BEGIN:VCALENDAR
VERSION:2.0
PRODID:Events Booking
BEGIN:VEVENT
UID:69ed20065f61d
SUMMARY:AMN1101 Assessment and Moderation Network
DESCRIPTION:
 &nbsp\;
 Messages from DfE/STA and updates from the LA
 &n
 bsp\;
 Floor standards
 &nbsp\;
 Key points / pages from the new style 
 Raise dashboard (ASP) and Ofsted data document (IDSR) - if it is available
  at this time.
 &nbsp\;
 James Pembroke VA Calculator and how to track p
 rogress
 &nbsp\;
 Reading SATS papers (KS1/2) to identify patterns and a
 reas to teach
LOCATION:Barnwell Rd\, Wellingborough NN8\, UK
DTSTART:20180111T160000Z
DTEND:20180111T170000Z
DTSTAMP:20260425T201150Z
ORGANIZER;CN=5 Wells Development Centre:MAILTO:victoria.brennan@5wells.org.
 uk
GEO:52.314941;-0.712512
X-APPLE-STRUCTURED-LOCATION;VALUE=URI;X-ADDRESS=Barnwell Rd\, Wellingboroug
 h NN8\, UK;X-APPLE-RADIUS=72;X-TITLE=5 Wells Development Centre @ Redwell 
 Primary :52.314941;-0.712512
END:VEVENT
END:VCALENDAR