BEGIN:VCALENDAR
VERSION:2.0
PRODID:Events Booking
BEGIN:VEVENT
UID:69ed0c06ecdc5
SUMMARY:STA0702PM STA KS2 Moderation Workshop
DESCRIPTION:Aims of the sessions:
 
 To provide updates about the changes
  in statutory assessment at the end of KS1 and KS2 in 2018
 To develop su
 bject knowledge and strategies for test preparation and teacher assessment
  judgements.
 To use the new Teacher Assessment Framework (TAF) to inform
  TA judgements.
 
 
 To provide an opportunity to develop good practice
  in evidence-based teacher assessment
 
 &nbsp\;
 The course is split i
 nto the following sessions:
 &nbsp\;
 Initial Preparation Day - &pound\;
 125.00 per delegate\, including lunch
 Update sessions and practical mode
 ration for maths\, reading and writing (Key Stage 2 writing only)
 &nbsp\
 ;
 Moderation Workshop - &pound\;65.00 per delegate\, refreshments includ
 ed
 Practical moderation for maths\, reading &amp\; writing (Key Stage 2 
 writing only).
LOCATION:Barnwell Rd\, Wellingborough NN8\, UK
DTSTART:20180207T130000Z
DTEND:20180207T160000Z
DTSTAMP:20260425T184630Z
ORGANIZER;CN=5 Wells Development Centre:MAILTO:victoria.brennan@5wells.org.
 uk
GEO:52.314941;-0.712512
X-APPLE-STRUCTURED-LOCATION;VALUE=URI;X-ADDRESS=Barnwell Rd\, Wellingboroug
 h NN8\, UK;X-APPLE-RADIUS=72;X-TITLE=5 Wells Development Centre @ Redwell 
 Primary :52.314941;-0.712512
END:VEVENT
END:VCALENDAR