BEGIN:VCALENDAR
VERSION:2.0
PRODID:Events Booking
BEGIN:VEVENT
UID:69ecb89090875
SUMMARY:CM1406 Years 1\, 3\, 4 and 5 Cluster Moderation
DESCRIPTION:Please use the delegate's email address when booking otherwise 
 they wil not get notifications or any amendments to the booking.
 &nbsp\;
 
 
LOCATION:Barnwell Rd\, Wellingborough NN8\, UK
DTSTART:20180614T144500Z
DTEND:20180614T160000Z
DTSTAMP:20260425T125024Z
ORGANIZER;CN=5 Wells Development Centre:MAILTO:victoria.brennan@5wells.org.
 uk
GEO:52.314941;-0.712512
X-APPLE-STRUCTURED-LOCATION;VALUE=URI;X-ADDRESS=Barnwell Rd\, Wellingboroug
 h NN8\, UK;X-APPLE-RADIUS=72;X-TITLE=5 Wells Development Centre @ Redwell 
 Primary :52.314941;-0.712512
END:VEVENT
END:VCALENDAR