BEGIN:VCALENDAR
VERSION:2.0
PRODID:Events Booking
BEGIN:VEVENT
UID:69ecfa1c4ffdd
SUMMARY:GDPR1603 Preparing for the General Data Protection Regulations
DESCRIPTION:&nbsp\;
 &nbsp\;
 Following the success of our first session\
 , we are running a second session of our GDPR training.&nbsp\; Feedback fr
 om the delegates that attended the first session was very favourable. 
 &
 nbsp\;
 The session was attended by Head Teachers\, School Business Manag
 ers\, members of ICT teams\, web developers etc.&nbsp\; Delegates noted th
 at the session was &lsquo\;very clear&rsquo\;\, &lsquo\;extremely importan
 t&rsquo\; and &lsquo\;delivered in a way that made me think it is achievab
 le&rsquo\;.&nbsp\; Others found the &lsquo\;step by step&rsquo\; informati
 on very useful. 
 &nbsp\;
 The session is suitable for Nurseries\, Infan
 t\, Junior\, Primary AND Secondary Schools.
 &nbsp\;
 
LOCATION:Barnwell Rd\, Wellingborough NN8\, UK
DTSTART:20180316T130000Z
DTEND:20180316T160000Z
DTSTAMP:20260425T173004Z
ORGANIZER;CN=5 Wells Development Centre:MAILTO:victoria.brennan@5wells.org.
 uk
GEO:52.314941;-0.712512
X-APPLE-STRUCTURED-LOCATION;VALUE=URI;X-ADDRESS=Barnwell Rd\, Wellingboroug
 h NN8\, UK;X-APPLE-RADIUS=72;X-TITLE=5 Wells Development Centre @ Redwell 
 Primary :52.314941;-0.712512
END:VEVENT
END:VCALENDAR