BEGIN:VCALENDAR
VERSION:2.0
PRODID:Events Booking
BEGIN:VEVENT
UID:69ecb885df564
SUMMARY:KM0806 Katherine Murby - Coaching for Senior Leaders
DESCRIPTION:
 &nbsp\;Session 3
 &uml\;&nbsp\;Delegates will develop furth
 er strategies to support them in their roles and increase their confidence
  in developing others to reach their potential. 
LOCATION:Barnwell Rd\, Wellingborough NN8\, UK
DTSTART:20180608T080000Z
DTEND:20180608T143000Z
DTSTAMP:20260425T125013Z
ORGANIZER;CN=5 Wells Development Centre:MAILTO:victoria.brennan@5wells.org.
 uk
GEO:52.314941;-0.712512
X-APPLE-STRUCTURED-LOCATION;VALUE=URI;X-ADDRESS=Barnwell Rd\, Wellingboroug
 h NN8\, UK;X-APPLE-RADIUS=72;X-TITLE=5 Wells Development Centre @ Redwell 
 Primary :52.314941;-0.712512
END:VEVENT
END:VCALENDAR