BEGIN:VCALENDAR
VERSION:2.0
PRODID:Events Booking
BEGIN:VEVENT
UID:69ecb88b72694
SUMMARY:EHCP1406 Effective Needs Assessments and EHCPs — for Mainstream S
 chools
DESCRIPTION:
LOCATION:Barnwell Rd\, Wellingborough NN8\, UK
DTSTART:20180614T083000Z
DTEND:20180614T143000Z
DTSTAMP:20260425T125019Z
ORGANIZER;CN=5 Wells Development Centre:MAILTO:victoria.brennan@5wells.org.
 uk
GEO:52.314941;-0.712512
X-APPLE-STRUCTURED-LOCATION;VALUE=URI;X-ADDRESS=Barnwell Rd\, Wellingboroug
 h NN8\, UK;X-APPLE-RADIUS=72;X-TITLE=5 Wells Development Centre @ Redwell 
 Primary :52.314941;-0.712512
END:VEVENT
END:VCALENDAR