BEGIN:VCALENDAR
VERSION:2.0
PRODID:Events Booking
BEGIN:VEVENT
UID:69ec23a4995e9
SUMMARY:NTG1501 New to Governance (1/2)
DESCRIPTION:This session is now full.&nbsp\; There is another session sched
 uled in May.&nbsp\; Please folow this link for more detail:&nbsp\; New to 
 Governance Training.
 
 &nbsp\;
 &nbsp\;
LOCATION:Barnwell Rd\, Wellingborough NN8\, UK
DTSTART:20190115T180000Z
DTEND:20190115T200000Z
DTSTAMP:20260425T021500Z
ORGANIZER;CN=5 Wells Development Centre:MAILTO:victoria.brennan@5wells.org.
 uk
GEO:52.314941;-0.712512
X-APPLE-STRUCTURED-LOCATION;VALUE=URI;X-ADDRESS=Barnwell Rd\, Wellingboroug
 h NN8\, UK;X-APPLE-RADIUS=72;X-TITLE=5 Wells Development Centre @ Redwell 
 Primary :52.314941;-0.712512
END:VEVENT
END:VCALENDAR