BEGIN:VCALENDAR
VERSION:2.0
PRODID:Events Booking
BEGIN:VEVENT
UID:69ec37fe7afc4
SUMMARY:STA0512PM Statutory Assessment Training and Moderation Year 6 Writi
 ng Only
DESCRIPTION:
 &nbsp\;
 Moderation will follow in March - dates are below.
 
 
LOCATION:Barnwell Rd\, Wellingborough NN8\, UK
DTSTART:20181205T130000Z
DTEND:20181205T160000Z
DTSTAMP:20260425T034150Z
ORGANIZER;CN=5 Wells Development Centre:MAILTO:victoria.brennan@5wells.org.
 uk
GEO:52.314941;-0.712512
X-APPLE-STRUCTURED-LOCATION;VALUE=URI;X-ADDRESS=Barnwell Rd\, Wellingboroug
 h NN8\, UK;X-APPLE-RADIUS=72;X-TITLE=5 Wells Development Centre @ Redwell 
 Primary :52.314941;-0.712512
END:VEVENT
END:VCALENDAR