BEGIN:VCALENDAR
VERSION:2.0
PRODID:Events Booking
BEGIN:VEVENT
UID:69ec24a488a84
SUMMARY:NQT2301 NQT Conference
DESCRIPTION:Don't miss out on the Early Bird offer rate - ends 16th Decembe
 r 2018.
 &nbsp\;
 
 &nbsp\;
 To book your place\, please click on this
  link.
LOCATION:Stamford Court\, Oadby Campus\, Manor Road\, Leicester LE2 2LH
DTSTART:20190123T090000Z
DTEND:20190123T154500Z
DTSTAMP:20260425T021916Z
ORGANIZER;CN=5 Wells Development Centre:MAILTO:victoria.brennan@5wells.org.
 uk
END:VEVENT
END:VCALENDAR