BEGIN:VCALENDAR
VERSION:2.0
PRODID:Events Booking
BEGIN:VEVENT
UID:69ec10c043717
SUMMARY:PP2702 The Effective Use and Monitoring of Pupil Premium Funding
DESCRIPTION:&nbsp\;
 &nbsp\;
 Pupil Premium Funding can be used to pay fo
 r this course.
 
LOCATION:Barnwell Rd\, Wellingborough NN8\, UK
DTSTART:20190227T090000Z
DTEND:20190227T153000Z
DTSTAMP:20260425T005424Z
ORGANIZER;CN=5 Wells Development Centre:MAILTO:victoria.brennan@5wells.org.
 uk
GEO:52.314941;-0.712512
X-APPLE-STRUCTURED-LOCATION;VALUE=URI;X-ADDRESS=Barnwell Rd\, Wellingboroug
 h NN8\, UK;X-APPLE-RADIUS=72;X-TITLE=5 Wells Development Centre @ Redwell 
 Primary :52.314941;-0.712512
END:VEVENT
END:VCALENDAR