BEGIN:VCALENDAR
VERSION:2.0
PRODID:Events Booking
BEGIN:VEVENT
UID:69ebb1d539ac2
SUMMARY:SS0107 Site Supervisor Training and Safety Awareness
DESCRIPTION:We have deliberately scheduled this training at the end of the 
 year\, in order to enable Site Supervisors to implement changes during the
  Summer Break.
 &nbsp\;
 
LOCATION:Barnwell Rd\, Wellingborough NN8\, UK
DTSTART:20190701T080000Z
DTEND:20190701T143000Z
DTSTAMP:20260424T180925Z
ORGANIZER;CN=5 Wells Development Centre:MAILTO:victoria.brennan@5wells.org.
 uk
GEO:52.314941;-0.712512
X-APPLE-STRUCTURED-LOCATION;VALUE=URI;X-ADDRESS=Barnwell Rd\, Wellingboroug
 h NN8\, UK;X-APPLE-RADIUS=72;X-TITLE=5 Wells Development Centre @ Redwell 
 Primary :52.314941;-0.712512
END:VEVENT
END:VCALENDAR