BEGIN:VCALENDAR
VERSION:2.0
PRODID:Events Booking
BEGIN:VEVENT
UID:69ebfb0406ff5
SUMMARY:EX2603 Excel Introduction and Basics
DESCRIPTION:
LOCATION:Barnwell Rd\, Wellingborough NN8\, UK
DTSTART:20190326T093000Z
DTEND:20190326T123000Z
DTSTAMP:20260424T232140Z
ORGANIZER;CN=5 Wells Development Centre:MAILTO:victoria.brennan@5wells.org.
 uk
GEO:52.314941;-0.712512
X-APPLE-STRUCTURED-LOCATION;VALUE=URI;X-ADDRESS=Barnwell Rd\, Wellingboroug
 h NN8\, UK;X-APPLE-RADIUS=72;X-TITLE=5 Wells Development Centre @ Redwell 
 Primary :52.314941;-0.712512
END:VEVENT
END:VCALENDAR