BEGIN:VCALENDAR
VERSION:2.0
PRODID:Events Booking
BEGIN:VEVENT
UID:69eb74e634ba9
SUMMARY:NTG0710 New to Governance (1/2)
DESCRIPTION:
LOCATION:Barnwell Rd\, Wellingborough NN8\, UK
DTSTART:20191007T170000Z
DTEND:20191007T190000Z
DTSTAMP:20260424T134926Z
ORGANIZER;CN=5 Wells Development Centre:MAILTO:victoria.brennan@5wells.org.
 uk
GEO:52.314941;-0.712512
X-APPLE-STRUCTURED-LOCATION;VALUE=URI;X-ADDRESS=Barnwell Rd\, Wellingboroug
 h NN8\, UK;X-APPLE-RADIUS=72;X-TITLE=5 Wells Development Centre @ Redwell 
 Primary :52.314941;-0.712512
END:VEVENT
END:VCALENDAR