BEGIN:VCALENDAR
VERSION:2.0
PRODID:Events Booking
BEGIN:VEVENT
UID:69eaf7955a3d5
SUMMARY:DSLR2904 Designated Safeguarding Lead refresher
DESCRIPTION:DSL qualification should be reviewed every 2 years
 
 &nbsp\;
LOCATION:Barnwell Rd\, Wellingborough NN8\, UK
DTSTART:20200429T120000Z
DTEND:20200429T150000Z
DTSTAMP:20260424T045445Z
ORGANIZER;CN=5 Wells Development Centre:MAILTO:victoria.brennan@5wells.org.
 uk
GEO:52.314941;-0.712512
X-APPLE-STRUCTURED-LOCATION;VALUE=URI;X-ADDRESS=Barnwell Rd\, Wellingboroug
 h NN8\, UK;X-APPLE-RADIUS=72;X-TITLE=5 Wells Development Centre @ Redwell 
 Primary :52.314941;-0.712512
END:VEVENT
END:VCALENDAR