BEGIN:VCALENDAR
VERSION:2.0
PRODID:Events Booking
BEGIN:VEVENT
UID:69ebd5682782d
SUMMARY:WHITSUN BREAK
DESCRIPTION:
DTSTART:20190526T230000Z
DTEND:20190530T230000Z
DTSTAMP:20260424T204112Z
ORGANIZER;CN=5 Wells Development Centre:MAILTO:victoria.brennan@5wells.org.
 uk
END:VEVENT
END:VCALENDAR