BEGIN:VCALENDAR
VERSION:2.0
PRODID:Events Booking
BEGIN:VEVENT
UID:69eb7588d6416
SUMMARY:FA2310 Emergency First Aid
DESCRIPTION:PLEASE NOTE CHANGE OF DATE - NOW BEING DELIVERED ON 21ST OCTOBE
 R
 THIS SESSION NOW INCLUDES ANAPHYLAXIS AWARENESS AND THE USE OF AUTO IN
 JECTORS
 &nbsp\;
 
LOCATION:Barnwell Rd\, Wellingborough NN8\, UK
DTSTART:20191021T080000Z
DTEND:20191021T150000Z
DTSTAMP:20260424T135208Z
ORGANIZER;CN=5 Wells Development Centre:MAILTO:victoria.brennan@5wells.org.
 uk
GEO:52.314941;-0.712512
X-APPLE-STRUCTURED-LOCATION;VALUE=URI;X-ADDRESS=Barnwell Rd\, Wellingboroug
 h NN8\, UK;X-APPLE-RADIUS=72;X-TITLE=5 Wells Development Centre @ Redwell 
 Primary :52.314941;-0.712512
END:VEVENT
END:VCALENDAR