BEGIN:VCALENDAR
VERSION:2.0
PRODID:Events Booking
BEGIN:VEVENT
UID:69ed93cf20b0e
SUMMARY:EN1307 English Network
DESCRIPTION:Topic: TBC
LOCATION:Great Park St\, Wellingborough NN8 4PH\, UK
DTSTART:20170713T150000Z
DTEND:20170713T160000Z
DTSTAMP:20260426T042551Z
ORGANIZER;CN=5 Wells Development Centre:MAILTO:victoria.brennan@5wells.org.
 uk
GEO:52.30435;-0.69221
X-APPLE-STRUCTURED-LOCATION;VALUE=URI;X-ADDRESS=Great Park St\, Wellingboro
 ugh NN8 4PH\, UK;X-APPLE-RADIUS=72;X-TITLE=Park Junior School\, Wellingbor
 ough:52.30435;-0.69221
END:VEVENT
END:VCALENDAR