BEGIN:VCALENDAR
VERSION:2.0
PRODID:Events Booking
BEGIN:VEVENT
UID:69eb4d8bebd76
SUMMARY:STA1012 Statutory Assessment Training for New to Y6 Teachers
DESCRIPTION:New to Year 6 Teachers
 
LOCATION:Barnwell Rd\, Wellingborough NN8\, UK
DTSTART:20191210T090000Z
DTEND:20191210T120000Z
DTSTAMP:20260424T110131Z
ORGANIZER;CN=5 Wells Development Centre:MAILTO:victoria.brennan@5wells.org.
 uk
GEO:52.314941;-0.712512
X-APPLE-STRUCTURED-LOCATION;VALUE=URI;X-ADDRESS=Barnwell Rd\, Wellingboroug
 h NN8\, UK;X-APPLE-RADIUS=72;X-TITLE=5 Wells Development Centre @ Redwell 
 Primary :52.314941;-0.712512
END:VEVENT
END:VCALENDAR