BEGIN:VCALENDAR
VERSION:2.0
PRODID:Events Booking
BEGIN:VEVENT
UID:69ed93fd69edf
SUMMARY:AMN1107 Assessment and Moderation Network
DESCRIPTION:This session has been cancelled.
 &nbsp\;
 Updates and Reflec
 tions 2017 
 &nbsp\;
 
LOCATION:Barnwell Rd\, Wellingborough NN8\, UK
DTSTART:20170711T150000Z
DTEND:20170711T160000Z
DTSTAMP:20260426T042637Z
ORGANIZER;CN=5 Wells Development Centre:MAILTO:victoria.brennan@5wells.org.
 uk
GEO:52.314941;-0.712512
X-APPLE-STRUCTURED-LOCATION;VALUE=URI;X-ADDRESS=Barnwell Rd\, Wellingboroug
 h NN8\, UK;X-APPLE-RADIUS=72;X-TITLE=5 Wells Development Centre @ Redwell 
 Primary :52.314941;-0.712512
END:VEVENT
END:VCALENDAR