BEGIN:VCALENDAR
VERSION:2.0
PRODID:Events Booking
BEGIN:VEVENT
UID:69eb0beaa2a9f
SUMMARY:EAL1303 Enabling All Learners
DESCRIPTION:PLEASE NOTE REVISED DATE 13.3.2020
 
 &nbsp\;
 &nbsp\;
 &nb
 sp\;
LOCATION:Barnwell Rd\, Wellingborough NN8\, UK
DTSTART:20200313T090000Z
DTEND:20200313T120000Z
DTSTAMP:20260424T062130Z
ORGANIZER;CN=5 Wells Development Centre:MAILTO:victoria.brennan@5wells.org.
 uk
GEO:52.314941;-0.712512
X-APPLE-STRUCTURED-LOCATION;VALUE=URI;X-ADDRESS=Barnwell Rd\, Wellingboroug
 h NN8\, UK;X-APPLE-RADIUS=72;X-TITLE=5 Wells Development Centre @ Redwell 
 Primary :52.314941;-0.712512
END:VEVENT
END:VCALENDAR