BEGIN:VCALENDAR
VERSION:2.0
PRODID:Events Booking
BEGIN:VEVENT
UID:69ed938eceb2e
SUMMARY:SN1107 Science Network
DESCRIPTION:This session has been cancelled.
 &nbsp\;
 Topic: Working Sci
 entifically
LOCATION:Great Park St\, Wellingborough NN8 4PH\, UK
DTSTART:20170711T150000Z
DTEND:20170711T160000Z
DTSTAMP:20260426T042446Z
ORGANIZER;CN=5 Wells Development Centre:MAILTO:victoria.brennan@5wells.org.
 uk
GEO:52.30435;-0.69221
X-APPLE-STRUCTURED-LOCATION;VALUE=URI;X-ADDRESS=Great Park St\, Wellingboro
 ugh NN8 4PH\, UK;X-APPLE-RADIUS=72;X-TITLE=Park Junior School\, Wellingbor
 ough:52.30435;-0.69221
END:VEVENT
END:VCALENDAR