BEGIN:VCALENDAR
VERSION:2.0
PRODID:Events Booking
BEGIN:VEVENT
UID:69eb249fbbec9
SUMMARY:Small Changes - Big Impact - Raising standards for pupils eligible 
 for Pupil Premium funding
DESCRIPTION:Session 1
 Identifying cultural capital for Pupil Premium Fund
 ed (PPF) children
 To book\, please follow this link Small Changes - Big 
 Impact 
 
LOCATION:Barnwell Rd\, Wellingborough NN8\, UK
DTSTART:20200210T131500Z
DTEND:20200210T153000Z
DTSTAMP:20260424T080655Z
ORGANIZER;CN=5 Wells Development Centre:MAILTO:victoria.brennan@5wells.org.
 uk
GEO:52.314941;-0.712512
X-APPLE-STRUCTURED-LOCATION;VALUE=URI;X-ADDRESS=Barnwell Rd\, Wellingboroug
 h NN8\, UK;X-APPLE-RADIUS=72;X-TITLE=5 Wells Development Centre @ Redwell 
 Primary :52.314941;-0.712512
END:VEVENT
END:VCALENDAR