BEGIN:VCALENDAR
VERSION:2.0
PRODID:Events Booking
BEGIN:VEVENT
UID:69eae5c4d5d07
SUMMARY:Small Changes - Big Impact - Raising standards for pupils eligible 
 for Pupil Premium funding (3)
DESCRIPTION:Session 3
 Accountability for the PPF—Prove it!
 To book\, 
 please follow this link Small Changes - Big Impact
LOCATION:Barnwell Rd\, Wellingborough NN8\, UK
DTSTART:20200519T121500Z
DTEND:20200519T143000Z
DTSTAMP:20260424T033844Z
ORGANIZER;CN=5 Wells Development Centre:MAILTO:victoria.brennan@5wells.org.
 uk
GEO:52.314941;-0.712512
X-APPLE-STRUCTURED-LOCATION;VALUE=URI;X-ADDRESS=Barnwell Rd\, Wellingboroug
 h NN8\, UK;X-APPLE-RADIUS=72;X-TITLE=5 Wells Development Centre @ Redwell 
 Primary :52.314941;-0.712512
END:VEVENT
END:VCALENDAR