BEGIN:VCALENDAR
VERSION:2.0
PRODID:Events Booking
BEGIN:VEVENT
UID:69ea62d95b910
SUMMARY:POSTPONED SGG1711 Safeguarding: The Governors' Role
DESCRIPTION:POSTPONED
 
LOCATION:Barnwell Rd\, Wellingborough NN8\, UK
DTSTART:20201117T180000Z
DTEND:20201117T200000Z
DTSTAMP:20260423T182009Z
ORGANIZER;CN=5 Wells Development Centre:MAILTO:victoria.brennan@5wells.org.
 uk
GEO:52.314941;-0.712512
X-APPLE-STRUCTURED-LOCATION;VALUE=URI;X-ADDRESS=Barnwell Rd\, Wellingboroug
 h NN8\, UK;X-APPLE-RADIUS=72;X-TITLE=5 Wells Development Centre @ Redwell 
 Primary :52.314941;-0.712512
END:VEVENT
END:VCALENDAR