BEGIN:VCALENDAR
VERSION:2.0
PRODID:Events Booking
BEGIN:VEVENT
UID:69eae6e64e5e3
SUMMARY:DSL1905 New to DSL
DESCRIPTION:
 
DTSTART:20200519T083000Z
DTEND:20200519T150000Z
DTSTAMP:20260424T034334Z
ORGANIZER;CN=5 Wells Development Centre:MAILTO:victoria.brennan@5wells.org.
 uk
END:VEVENT
END:VCALENDAR