BEGIN:VCALENDAR
VERSION:2.0
PRODID:Events Booking
BEGIN:VEVENT
UID:69eae1937fdca
SUMMARY:SR2105 Safer Recruitment
DESCRIPTION:
 
DTSTART:20200521T123000Z
DTEND:20200521T150000Z
DTSTAMP:20260424T032051Z
ORGANIZER;CN=5 Wells Development Centre:MAILTO:victoria.brennan@5wells.org.
 uk
END:VEVENT
END:VCALENDAR