BEGIN:VCALENDAR
VERSION:2.0
PRODID:Events Booking
BEGIN:VEVENT
UID:69eae6c2a1caa
SUMMARY:DSLR2205 DSL Refresher
DESCRIPTION:
 
DTSTART:20200522T083000Z
DTEND:20200522T113000Z
DTSTAMP:20260424T034258Z
ORGANIZER;CN=5 Wells Development Centre:MAILTO:victoria.brennan@5wells.org.
 uk
END:VEVENT
END:VCALENDAR