BEGIN:VCALENDAR
VERSION:2.0
PRODID:Events Booking
BEGIN:VEVENT
UID:69eab9298bc00
SUMMARY:DSLD0907 DSL Development (refresher) Training
DESCRIPTION:
 
 &nbsp\;
DTSTART:20200709T083000Z
DTEND:20200709T110000Z
DTSTAMP:20260424T002825Z
ORGANIZER;CN=5 Wells Development Centre:MAILTO:victoria.brennan@5wells.org.
 uk
END:VEVENT
END:VCALENDAR