BEGIN:VCALENDAR
VERSION:2.0
PRODID:Events Booking
BEGIN:VEVENT
UID:69eab98c34b14
SUMMARY:DSL1007 DSL Foundation Training
DESCRIPTION:
 
DTSTART:20200710T083000Z
DTEND:20200710T150000Z
DTSTAMP:20260424T003004Z
ORGANIZER;CN=5 Wells Development Centre:MAILTO:victoria.brennan@5wells.org.
 uk
END:VEVENT
END:VCALENDAR