BEGIN:VCALENDAR
VERSION:2.0
PRODID:Events Booking
BEGIN:VEVENT
UID:69ea4e6405a90
SUMMARY:STA0112AM KS2 Statutory Assessment Training for New to Y6 Teachers
DESCRIPTION:Teachers new to year 6 should attend both AM and PM sessions.

  &nbsp\;
 
LOCATION:Barnwell Rd\, Wellingborough NN8\, UK
DTSTART:20201201T090000Z
DTEND:20201201T120000Z
DTSTAMP:20260423T165252Z
ORGANIZER;CN=5 Wells Development Centre:MAILTO:victoria.brennan@5wells.org.
 uk
GEO:52.314941;-0.712512
X-APPLE-STRUCTURED-LOCATION;VALUE=URI;X-ADDRESS=Barnwell Rd\, Wellingboroug
 h NN8\, UK;X-APPLE-RADIUS=72;X-TITLE=5 Wells Development Centre @ Redwell 
 Primary :52.314941;-0.712512
END:VEVENT
END:VCALENDAR