BEGIN:VCALENDAR
VERSION:2.0
PRODID:Events Booking
BEGIN:VEVENT
UID:69ea5f67b8d8e
SUMMARY:STA2411 KS1 STA Training and Updates
DESCRIPTION:THIS SESSION IS NOW FULL - PLEASE CONSIDER OUR 10TH DECEMBER SE
 SSION
 
 
LOCATION:Barnwell Rd\, Wellingborough NN8\, UK
DTSTART:20201124T090000Z
DTEND:20201124T160000Z
DTSTAMP:20260423T180527Z
ORGANIZER;CN=5 Wells Development Centre:MAILTO:victoria.brennan@5wells.org.
 uk
GEO:52.314941;-0.712512
X-APPLE-STRUCTURED-LOCATION;VALUE=URI;X-ADDRESS=Barnwell Rd\, Wellingboroug
 h NN8\, UK;X-APPLE-RADIUS=72;X-TITLE=5 Wells Development Centre @ Redwell 
 Primary :52.314941;-0.712512
END:VEVENT
END:VCALENDAR