BEGIN:VCALENDAR
VERSION:2.0
PRODID:Events Booking
BEGIN:VEVENT
UID:69ea329ee233c
SUMMARY:PPL1901 Developing the Role of the Pupil Premium Lead - session 3
DESCRIPTION:This is an online event
 
 
DTSTART:20210119T130000Z
DTEND:20210119T160000Z
DTSTAMP:20260423T145422Z
ORGANIZER;CN=5 Wells Development Centre:MAILTO:victoria.brennan@5wells.org.
 uk
END:VEVENT
END:VCALENDAR