BEGIN:VCALENDAR
VERSION:2.0
PRODID:Events Booking
BEGIN:VEVENT
UID:69ea5f3a2d9df
SUMMARY:NPAT2011 MTC - Multiplication Tables Check
DESCRIPTION:
 We have scheduled another date - please follow this link:&nb
 sp\;&nbsp\;Year 4 Multiplication Tables Check&nbsp\;
 
LOCATION:Barnwell Rd\, Wellingborough NN8\, UK
DTSTART:20201120T090000Z
DTEND:20201120T120000Z
DTSTAMP:20260423T180442Z
ORGANIZER;CN=5 Wells Development Centre:MAILTO:victoria.brennan@5wells.org.
 uk
GEO:52.314941;-0.712512
X-APPLE-STRUCTURED-LOCATION;VALUE=URI;X-ADDRESS=Barnwell Rd\, Wellingboroug
 h NN8\, UK;X-APPLE-RADIUS=72;X-TITLE=5 Wells Development Centre @ Redwell 
 Primary :52.314941;-0.712512
END:VEVENT
END:VCALENDAR