BEGIN:VCALENDAR
VERSION:2.0
PRODID:Events Booking
BEGIN:VEVENT
UID:69ea3464f1d31
SUMMARY:READ2801 Making Reading Reach Its Full Potential - session 1 of 3
DESCRIPTION:This is an online event
 
 
 &nbsp\;
 
DTSTART:20210128T130000Z
DTEND:20210128T160000Z
DTSTAMP:20260423T150156Z
ORGANIZER;CN=5 Wells Development Centre:MAILTO:victoria.brennan@5wells.org.
 uk
END:VEVENT
END:VCALENDAR