BEGIN:VCALENDAR
VERSION:2.0
PRODID:Events Booking
BEGIN:VEVENT
UID:69ea1ad03978f
SUMMARY:NPAT0402 Maths Fluency in KS1 and KS2 - session 1 of 4
DESCRIPTION:This is an online event
 
 
 
 
DTSTART:20210204T130000Z
DTEND:20210204T160000Z
DTSTAMP:20260423T131248Z
ORGANIZER;CN=5 Wells Development Centre:MAILTO:victoria.brennan@5wells.org.
 uk
END:VEVENT
END:VCALENDAR