BEGIN:VCALENDAR
VERSION:2.0
PRODID:Events Booking
BEGIN:VEVENT
UID:69e9fdd079614
SUMMARY:NPAT0403 Maths Fluency in KS1 and KS2 - session 2 of 4
DESCRIPTION:
 
LOCATION:Barnwell Rd\, Wellingborough NN8\, UK
DTSTART:20210304T130000Z
DTEND:20210304T160000Z
DTSTAMP:20260423T110904Z
ORGANIZER;CN=5 Wells Development Centre:MAILTO:victoria.brennan@5wells.org.
 uk
GEO:52.314941;-0.712512
X-APPLE-STRUCTURED-LOCATION;VALUE=URI;X-ADDRESS=Barnwell Rd\, Wellingboroug
 h NN8\, UK;X-APPLE-RADIUS=72;X-TITLE=5 Wells Development Centre @ Redwell 
 Primary :52.314941;-0.712512
END:VEVENT
END:VCALENDAR