BEGIN:VCALENDAR
VERSION:2.0
PRODID:Events Booking
BEGIN:VEVENT
UID:69ea4caf14331
SUMMARY:SH1412 Reading for Pleasure - taster session
DESCRIPTION:
 &nbsp\;
 Have you also seen our series of fluency sessions?
 &nbsp\;&nbsp\;
 https://5wells.org.uk/index.php/events/training-cpd/409-r
 ead1401-making-reading-reach-its-full-potential-session-1-of-3&nbsp\;
DTSTART:20201214T160000Z
DTEND:20201214T170000Z
DTSTAMP:20260423T164535Z
ORGANIZER;CN=5 Wells Development Centre:MAILTO:victoria.brennan@5wells.org.
 uk
END:VEVENT
END:VCALENDAR