BEGIN:VCALENDAR
VERSION:2.0
PRODID:Events Booking
BEGIN:VEVENT
UID:69ea33a65fc6b
SUMMARY:SH1201 Reading for Pleasure session 1
DESCRIPTION:This is an online event
 
 
DTSTART:20210112T160000Z
DTEND:20210112T173000Z
DTSTAMP:20260423T145846Z
ORGANIZER;CN=5 Wells Development Centre:MAILTO:victoria.brennan@5wells.org.
 uk
END:VEVENT
END:VCALENDAR