BEGIN:VCALENDAR
VERSION:2.0
PRODID:Events Booking
BEGIN:VEVENT
UID:69ea19ce9d715
SUMMARY:SH2302 Reading for Pleasure session 2
DESCRIPTION:
DTSTART:20210223T160000Z
DTEND:20210223T173000Z
DTSTAMP:20260423T130830Z
ORGANIZER;CN=5 Wells Development Centre:MAILTO:victoria.brennan@5wells.org.
 uk
END:VEVENT
END:VCALENDAR