BEGIN:VCALENDAR
VERSION:2.0
PRODID:Events Booking
BEGIN:VEVENT
UID:69e9fbcd3f941
SUMMARY:SH2302 Reading for Pleasure session 3
DESCRIPTION:
DTSTART:20210323T160000Z
DTEND:20210323T173000Z
DTSTAMP:20260423T110029Z
ORGANIZER;CN=5 Wells Development Centre:MAILTO:victoria.brennan@5wells.org.
 uk
END:VEVENT
END:VCALENDAR